BEGIN:VCALENDAR
VERSION:2.0
PRODID:-//Radio Mankato - ECPv6.15.20//NONSGML v1.0//EN
CALSCALE:GREGORIAN
METHOD:PUBLISH
X-WR-CALNAME:Radio Mankato
X-ORIGINAL-URL:https://radiomankato.com
X-WR-CALDESC:Events for Radio Mankato
REFRESH-INTERVAL;VALUE=DURATION:PT1H
X-Robots-Tag:noindex
X-PUBLISHED-TTL:PT1H
BEGIN:VTIMEZONE
TZID:UTC
BEGIN:STANDARD
TZOFFSETFROM:+0000
TZOFFSETTO:+0000
TZNAME:UTC
DTSTART:20240101T000000
END:STANDARD
END:VTIMEZONE
BEGIN:VEVENT
DTSTART;VALUE=DATE:20250207
DTEND;VALUE=DATE:20250208
DTSTAMP:20260423T054922
CREATED:20240827T223844Z
LAST-MODIFIED:20240827T223844Z
UID:431124-1738886400-1738972799@radiomankato.com
SUMMARY:MSU Mavericks Hockey Home Game
DESCRIPTION:
URL:https://radiomankato.com/calendar/msu-mavericks-hockey-home-game-17/
LOCATION:Mayo Clinic Health System Event Center\, 1 Civic Center Plaza\, Mankato\, MN\, 56001\, United States
END:VEVENT
END:VCALENDAR