BEGIN:VCALENDAR
VERSION:2.0
PRODID:-//Radio Mankato - ECPv6.15.20//NONSGML v1.0//EN
CALSCALE:GREGORIAN
METHOD:PUBLISH
X-WR-CALNAME:Radio Mankato
X-ORIGINAL-URL:https://radiomankato.com
X-WR-CALDESC:Events for Radio Mankato
REFRESH-INTERVAL;VALUE=DURATION:PT1H
X-Robots-Tag:noindex
X-PUBLISHED-TTL:PT1H
BEGIN:VTIMEZONE
TZID:America/Chicago
BEGIN:DAYLIGHT
TZOFFSETFROM:-0600
TZOFFSETTO:-0500
TZNAME:CDT
DTSTART:20240310T080000
END:DAYLIGHT
BEGIN:STANDARD
TZOFFSETFROM:-0500
TZOFFSETTO:-0600
TZNAME:CST
DTSTART:20241103T070000
END:STANDARD
BEGIN:DAYLIGHT
TZOFFSETFROM:-0600
TZOFFSETTO:-0500
TZNAME:CDT
DTSTART:20250309T080000
END:DAYLIGHT
BEGIN:STANDARD
TZOFFSETFROM:-0500
TZOFFSETTO:-0600
TZNAME:CST
DTSTART:20251102T070000
END:STANDARD
BEGIN:DAYLIGHT
TZOFFSETFROM:-0600
TZOFFSETTO:-0500
TZNAME:CDT
DTSTART:20260308T080000
END:DAYLIGHT
BEGIN:STANDARD
TZOFFSETFROM:-0500
TZOFFSETTO:-0600
TZNAME:CST
DTSTART:20261101T070000
END:STANDARD
END:VTIMEZONE
BEGIN:VEVENT
DTSTART;TZID=America/Chicago:20250522T165000
DTEND;TZID=America/Chicago:20250522T183000
DTSTAMP:20260420T053238
CREATED:20250521T204637Z
LAST-MODIFIED:20250521T204637Z
UID:433123-1747932600-1747938600@radiomankato.com
SUMMARY:Baseball: Loyola vs GFW
DESCRIPTION:Baseball: Loyola vs GFW 4:50 pre\, 5 first pitch on The Fan with Aaron
URL:https://radiomankato.com/calendar/baseball-loyola-vs-gfw/
LOCATION:MN
END:VEVENT
BEGIN:VEVENT
DTSTART;TZID=America/Chicago:20250522T182000
DTEND;TZID=America/Chicago:20250522T210000
DTSTAMP:20260420T053238
CREATED:20250521T204722Z
LAST-MODIFIED:20250521T204722Z
UID:433124-1747938000-1747947600@radiomankato.com
SUMMARY:Baseball East vs West
DESCRIPTION:Baseball East vs West 6:20\, 6:30 first pitch Seth and John on KTOE
URL:https://radiomankato.com/calendar/baseball-east-vs-west/
LOCATION:MN
END:VEVENT
END:VCALENDAR