BEGIN:VCALENDAR
VERSION:2.0
PRODID:-//Radio Mankato - ECPv6.15.20//NONSGML v1.0//EN
CALSCALE:GREGORIAN
METHOD:PUBLISH
X-WR-CALNAME:Radio Mankato
X-ORIGINAL-URL:https://radiomankato.com
X-WR-CALDESC:Events for Radio Mankato
REFRESH-INTERVAL;VALUE=DURATION:PT1H
X-Robots-Tag:noindex
X-PUBLISHED-TTL:PT1H
BEGIN:VTIMEZONE
TZID:UTC
BEGIN:STANDARD
TZOFFSETFROM:+0000
TZOFFSETTO:+0000
TZNAME:UTC
DTSTART:20240101T000000
END:STANDARD
END:VTIMEZONE
BEGIN:VTIMEZONE
TZID:America/Chicago
BEGIN:DAYLIGHT
TZOFFSETFROM:-0600
TZOFFSETTO:-0500
TZNAME:CDT
DTSTART:20240310T080000
END:DAYLIGHT
BEGIN:STANDARD
TZOFFSETFROM:-0500
TZOFFSETTO:-0600
TZNAME:CST
DTSTART:20241103T070000
END:STANDARD
BEGIN:DAYLIGHT
TZOFFSETFROM:-0600
TZOFFSETTO:-0500
TZNAME:CDT
DTSTART:20250309T080000
END:DAYLIGHT
BEGIN:STANDARD
TZOFFSETFROM:-0500
TZOFFSETTO:-0600
TZNAME:CST
DTSTART:20251102T070000
END:STANDARD
BEGIN:DAYLIGHT
TZOFFSETFROM:-0600
TZOFFSETTO:-0500
TZNAME:CDT
DTSTART:20260308T080000
END:DAYLIGHT
BEGIN:STANDARD
TZOFFSETFROM:-0500
TZOFFSETTO:-0600
TZNAME:CST
DTSTART:20261101T070000
END:STANDARD
END:VTIMEZONE
BEGIN:VEVENT
DTSTART;VALUE=DATE:20250524
DTEND;VALUE=DATE:20250525
DTSTAMP:20260420T054142
CREATED:20250502T223309Z
LAST-MODIFIED:20250502T223309Z
UID:432946-1748044800-1748131199@radiomankato.com
SUMMARY:Twins Vs. Kansas City Royals
DESCRIPTION:12:30pm Pre-Game \n1:10pm 1st Pitch
URL:https://radiomankato.com/calendar/twins-vs-kansas-city-royals-2/
LOCATION:MN
END:VEVENT
BEGIN:VEVENT
DTSTART;TZID=America/Chicago:20250524T115000
DTEND;TZID=America/Chicago:20250524T130000
DTSTAMP:20260420T054142
CREATED:20250521T204816Z
LAST-MODIFIED:20250521T204816Z
UID:433125-1748087400-1748091600@radiomankato.com
SUMMARY:Softball: Section 3AAA Winners
DESCRIPTION:Softball: Section 3AAA Winners bracket final\, probably West vs East 11:50\, Noon on the FAN with Aaron
URL:https://radiomankato.com/calendar/softball-section-3aaa-winners/
LOCATION:MN
END:VEVENT
END:VCALENDAR