BEGIN:VCALENDAR
VERSION:2.0
PRODID:-//Radio Mankato - ECPv6.15.20//NONSGML v1.0//EN
CALSCALE:GREGORIAN
METHOD:PUBLISH
X-WR-CALNAME:Radio Mankato
X-ORIGINAL-URL:https://radiomankato.com
X-WR-CALDESC:Events for Radio Mankato
REFRESH-INTERVAL;VALUE=DURATION:PT1H
X-Robots-Tag:noindex
X-PUBLISHED-TTL:PT1H
BEGIN:VTIMEZONE
TZID:America/Chicago
BEGIN:DAYLIGHT
TZOFFSETFROM:-0600
TZOFFSETTO:-0500
TZNAME:CDT
DTSTART:20250309T080000
END:DAYLIGHT
BEGIN:STANDARD
TZOFFSETFROM:-0500
TZOFFSETTO:-0600
TZNAME:CST
DTSTART:20251102T070000
END:STANDARD
BEGIN:DAYLIGHT
TZOFFSETFROM:-0600
TZOFFSETTO:-0500
TZNAME:CDT
DTSTART:20260308T080000
END:DAYLIGHT
BEGIN:STANDARD
TZOFFSETFROM:-0500
TZOFFSETTO:-0600
TZNAME:CST
DTSTART:20261101T070000
END:STANDARD
BEGIN:DAYLIGHT
TZOFFSETFROM:-0600
TZOFFSETTO:-0500
TZNAME:CDT
DTSTART:20270314T080000
END:DAYLIGHT
BEGIN:STANDARD
TZOFFSETFROM:-0500
TZOFFSETTO:-0600
TZNAME:CST
DTSTART:20271107T070000
END:STANDARD
END:VTIMEZONE
BEGIN:VEVENT
DTSTART;TZID=America/Chicago:20260418T110000
DTEND;TZID=America/Chicago:20260418T130000
DTSTAMP:20260425T074625
CREATED:20260304T184456Z
LAST-MODIFIED:20260304T184456Z
UID:435535-1776510000-1776517200@radiomankato.com
SUMMARY:LIVE BROADCAST - Bunk's Card Corner
DESCRIPTION:https://bunkscardcorner.com/
URL:https://radiomankato.com/calendar/live-broadcast-bunks-card-corner/
LOCATION:MN
CATEGORIES:Radio Events
ATTACH;FMTTYPE=image/avif:https://radiomankato.com/wp-content/uploads/2026/03/BunksCC_logos_Primary_Horizontal_d121141e-46b0-4763-bbf0-d0be40cea294.avif
END:VEVENT
BEGIN:VEVENT
DTSTART;TZID=America/Chicago:20260418T110000
DTEND;TZID=America/Chicago:20260418T130000
DTSTAMP:20260425T074625
CREATED:20260331T161056Z
LAST-MODIFIED:20260331T161056Z
UID:435706-1776510000-1776517200@radiomankato.com
SUMMARY:Live Broadcast - Bunk's Card Corner
DESCRIPTION:11am -1pm @ Bunk’s Card Corner 
URL:https://radiomankato.com/calendar/live-broadcast-bunks-card-corner-2/
LOCATION:MN
CATEGORIES:Community Event
END:VEVENT
BEGIN:VEVENT
DTSTART;TZID=America/Chicago:20260421T130000
DTEND;TZID=America/Chicago:20260421T160000
DTSTAMP:20260425T074625
CREATED:20260323T162811Z
LAST-MODIFIED:20260323T162811Z
UID:435655-1776776400-1776787200@radiomankato.com
SUMMARY:Project Community Connect
DESCRIPTION:Tuesday\, April 21st from 1pm–4pm at the Mayo Clinic Health System Event Center in Mankato\nFree community resource event with help for housing\, jobs\, medical\, legal\, IDs\, and more\nFree lunch\, free childcare\, and free transit rides available\nMore info at {Project Community webpage}\nFINAL_2026 English PCC Flyer
URL:https://radiomankato.com/calendar/project-community-connect-2/
LOCATION:Mayo Clinic Health System Event Center\, 1 Civic Center Plaza\, Mankato\, MN\, 56001\, United States
CATEGORIES:Community Event
ATTACH;FMTTYPE=application/pdf:https://radiomankato.com/wp-content/uploads/2026/03/FINAL_2026-English-PCC-Flyer-2.pdf
ORGANIZER;CN="Greater Mankato Area United Way's":MAILTO:SarahB@mankatounitedway.org
END:VEVENT
BEGIN:VEVENT
DTSTART;TZID=America/Chicago:20260425T100000
DTEND;TZID=America/Chicago:20260425T160000
DTSTAMP:20260425T074625
CREATED:20260304T182706Z
LAST-MODIFIED:20260304T182706Z
UID:435522-1777111200-1777132800@radiomankato.com
SUMMARY:Barnyard Babies
DESCRIPTION:Saturday\, April 25\, 2026 | 10:00 AM  4:00 PM |  \nTake a tram ride to our historic 1930s barnyard\, where adorable baby farm animals await! Meet a variety of farm animals and enjoy up-close\, hands-on interactions the whole family will love. \nTime Slots: \n\n\n10 AM – 12 PM \n\n\n12 PM – 2 PM \n\n\n2 PM – 4 PM \n\n\nYou are welcome to arrive at any time during your selected time slot. This helps to spread out the crowd and ensures a great experience for both you and our farm animals. \nPlease note that there are a limited number of tickets available for each time slot. We can’t guarantee that tickets will be available at the door and recommend purchasing tickets early. \nTicket Prices: \n\n\nGeneral Admission: $7 \n\n\n2 & Under: FREE \n\n\nFA Members & Season Passholder: FREE \n\n\nhttps://farmamerica.org/events/barnyard-babies
URL:https://radiomankato.com/calendar/barnyard-babies/
LOCATION:MN
CATEGORIES:Community Event
ATTACH;FMTTYPE=image/webp:https://radiomankato.com/wp-content/uploads/2026/03/FBeventcovers30.webp
END:VEVENT
BEGIN:VEVENT
DTSTART;TZID=America/Chicago:20260425T130000
DTEND;TZID=America/Chicago:20260425T150000
DTSTAMP:20260425T074625
CREATED:20260409T171415Z
LAST-MODIFIED:20260409T171415Z
UID:435823-1777122000-1777129200@radiomankato.com
SUMMARY:A Broadway Celebration
DESCRIPTION:The Mankato Riverblenders Chorus will present its Spring show\, “A BROADWAY CELEBRATION\,” on Saturday\, April 25 at 1:00 p.m. The performance will be held at Hosanna Lutheran Church in Mankato. \nThis lively and entertaining show will feature a variety of songs from beloved Broadway-inspired performances. Audiences will enjoy selections such as “Seasons of Love” from Rent\, “Cheek to Cheek: A Broadway Romance\, and “Hallelujah” from Shrek the Musical\, among others. \nThe Mankato Riverbleders Chorus brings these well-known songs to life in a fun and engaging performance for the ages \nCommunity members\, families and music lovers are invited to attend this special afternoon of entertainment. \nTickets can be purchased at: \nOnline @ singmankato.org \nAt the door: Cub Foods\, Hilltop HyVee (Mankato) and Nutter Clothing (St. Peter) \nPhone Orders: Call Jon\, (507) 420-5847) \nTicket Prices are: $15.00 Adults\, $5.00 Students
URL:https://radiomankato.com/calendar/a-broadway-celebration/
LOCATION:Hosanna Lutheran Church\, 105 Hosanna Drive\, Mankato\, MN\, 56001\, United States
CATEGORIES:Community Event
ATTACH;FMTTYPE=application/pdf:https://radiomankato.com/wp-content/uploads/2026/04/2026-Riverblenders-Show-Poster-1.pdf
END:VEVENT
BEGIN:VEVENT
DTSTART;TZID=America/Chicago:20260425T183000
DTEND;TZID=America/Chicago:20260425T203000
DTSTAMP:20260425T074625
CREATED:20260407T161548Z
LAST-MODIFIED:20260407T161548Z
UID:435788-1777141800-1777149000@radiomankato.com
SUMMARY:Lake Crystal Aglow
DESCRIPTION:Lake Crystal Aglow  \nYou’re Invited to a Night of Mystery\, Dinner\, and Fun!\nJoin us for our 2nd Annual Murder Mystery Dinner\, a night full of suspense\, laughter\, and delicious food\, all while supporting a great cause!\nEnjoy a full-course dinner (salad\, entrée\, and dessert) as you watch the mystery unfold around you. Keep your eyes open\, follow the clues\, and see if you can solve the crime before the night is over!\nAll proceeds from this event support our local nonprofit childcare center.\n Tickets: $50 per person Includes: Dinner + Live murder mystery show\nHow to purchase tickets:• Buy online: https://givebutter.com/murder-mystery-dinner-show-kjgbi4• Call the center (507) 726-2031)• Email the center (director@littlelakerscenter.com)\nBring your friends\, your spouse\, or make it a fun night out with a group. Last year’s event was a blast\, and we can’t wait to make this year even better!\nhttps://www.facebook.com/events/1227240262931336/
URL:https://radiomankato.com/calendar/lake-crystal-aglow/
LOCATION:MN
CATEGORIES:Community Event
ATTACH;FMTTYPE=image/jpeg:https://radiomankato.com/wp-content/uploads/2026/04/650403393_1460064622581191_2644552040935872406_n.jpg
END:VEVENT
BEGIN:VEVENT
DTSTART;TZID=America/Chicago:20260430T140000
DTEND;TZID=America/Chicago:20260430T190000
DTSTAMP:20260425T074625
CREATED:20260304T184633Z
LAST-MODIFIED:20260306T152844Z
UID:435537-1777557600-1777575600@radiomankato.com
SUMMARY:Mankato Job Fair
DESCRIPTION:  \nhttps://radiomankato.com/events/mankato-job-fair/
URL:https://radiomankato.com/calendar/mankato-job-fair/
LOCATION:MN
CATEGORIES:Community Event
END:VEVENT
BEGIN:VEVENT
DTSTART;VALUE=DATE:20260508
DTEND;VALUE=DATE:20260510
DTSTAMP:20260425T074625
CREATED:20260211T171053Z
LAST-MODIFIED:20260211T171053Z
UID:435386-1778198400-1778371199@radiomankato.com
SUMMARY:Minnesota in May - KCBS Series Competition
DESCRIPTION:Join us for MN in May 2026\nA Master Series BWC World Cup Qualifier! \nMay 8 – 9 \nSt. Peter\, MN – Nicollet Co. Fairgrounds \nMN TOY 2026 Qualifier \n$14\,000 Prize purse\nENTRY FEE-Masters: $325\nENTRY FEE-backyard: $175\nStandard 4-meat format for the masters KCBS event on Saturday. \nStandard 2-meat format for the backyard KCBS event on Saturday. \nMore Info Here: https://www.mnbbqsociety.com/event-6521242?fbclid=IwY2xjawP5l0VleHRuA2FlbQIxMABicmlkETFZQlRzaUdRZEJzU01kdVZic3J0YwZhcHBfaWQQMjIyMDM5MTc4ODIwMDg5MgABHuFC9uZhqPuLX25dLOtFJE79rhvyE8447PWVtWogQ8G5D1hS6y23WqQxKe35_aem_5EVI6SiThVvmrZO7DzXPHA
URL:https://radiomankato.com/calendar/minnesota-in-may-kcbs-series-competition/
LOCATION:MN
CATEGORIES:Community Event
END:VEVENT
BEGIN:VEVENT
DTSTART;VALUE=DATE:20260513
DTEND;VALUE=DATE:20260514
DTSTAMP:20260425T074625
CREATED:20260211T171220Z
LAST-MODIFIED:20260216T144626Z
UID:435387-1778630400-1778716799@radiomankato.com
SUMMARY:Bruno Mars
DESCRIPTION:Bruno Mars – The Romantic Tour\nWed • May 13\, 2026 • 7:00 PM U.S. Bank Stadium\, Minneapolis\, MN\n\nTicket Info Here: https://www.ticketmaster.com/bruno-mars-the-romantic-tour-minneapolis-minnesota-05-13-2026/event/06006396C3A4C35E?utm_campaign=PRM-00446949&utm_source=kdog-fm&utm_medium=ln_promo
URL:https://radiomankato.com/calendar/bruno-mars/
LOCATION:MN
ATTACH;FMTTYPE=image/jpeg:https://radiomankato.com/wp-content/uploads/2026/02/Static_SocialPhoto-Instagram_1080x1080_BrunoMars_2026_Regional_U.S.BankStadium_0513.jpg
END:VEVENT
BEGIN:VEVENT
DTSTART;VALUE=DATE:20260514
DTEND;VALUE=DATE:20260515
DTSTAMP:20260425T074625
CREATED:20260211T171345Z
LAST-MODIFIED:20260304T184712Z
UID:435388-1778716800-1778803199@radiomankato.com
SUMMARY:Nate Smith 
DESCRIPTION:With special guests Josh Ross & Brandon Wisham\nNate Smith is bringing his Country Rock & Roll Tour 2026 to the Mayo Clinic Event Center Grand Hall in Mankato\, MN on Thursday\, May 14! \nTickets are on sale beginning on Friday\, December 12 at 10:00 AM at the Mayo Clinic Health System Event Center Ticket Office & Ticketmaster.com.
URL:https://radiomankato.com/calendar/nate-smith/
LOCATION:MN
ATTACH;FMTTYPE=image/jpeg:https://radiomankato.com/wp-content/uploads/2025/12/051425-Nate-Smith-Mankato-1920x1080-1.jpg
END:VEVENT
BEGIN:VEVENT
DTSTART;VALUE=DATE:20260525
DTEND;VALUE=DATE:20260526
DTSTAMP:20260425T074625
CREATED:20260211T172007Z
LAST-MODIFIED:20260211T172007Z
UID:435389-1779667200-1779753599@radiomankato.com
SUMMARY:Mankato MoonDogs Home Opener
DESCRIPTION:More info here: https://northwoodsleague.com/mankato-moondogs/ 
URL:https://radiomankato.com/calendar/mankato-moondogs-home-opener/
LOCATION:MN
CATEGORIES:Community Event
END:VEVENT
BEGIN:VEVENT
DTSTART;TZID=America/Chicago:20260530T190000
DTEND;TZID=America/Chicago:20260530T210000
DTSTAMP:20260425T074625
CREATED:20251215T194045Z
LAST-MODIFIED:20251215T194109Z
UID:435076-1780167600-1780174800@radiomankato.com
SUMMARY:Brit Floyd The Moon\, The Wall and Beyond
DESCRIPTION:Brit Floyd The Moon\, The Wall and Beyond\nBrit Floyd – The World’s Premier Pink Floyd Experience … Rolling Stone Magazine has announced their 2026 world tour: “The Moon\, The Wall and Beyond.” This monumental new production celebrates two of the most iconic and influential albums in rock history — Pink Floyd’s The Dark Side of the Moon and The Wall — with a breathtaking show that captures the spirit\, sound\, and spectacle of the legendary band. \nhttps://www.vetterstoneamphitheater.com/events-and-tickets/events/brit-floyd
URL:https://radiomankato.com/calendar/brit-floyd-the-moon-the-wall-and-beyond/
LOCATION:MN
CATEGORIES:Community Event
ATTACH;FMTTYPE=image/png:https://radiomankato.com/wp-content/uploads/2025/12/Britt-Floyd.png
END:VEVENT
BEGIN:VEVENT
DTSTART;TZID=America/Chicago:20260604T110000
DTEND;TZID=America/Chicago:20260625T130000
DTSTAMP:20260425T074625
CREATED:20260409T173913Z
LAST-MODIFIED:20260409T173913Z
UID:435831-1780570800-1782392400@radiomankato.com
SUMMARY:Songs on the Lawn
DESCRIPTION:June 4\, 11\, 18\, and 25 | 11 am to 1 pm \nMark your calendars and join Greater Mankato Growth for the 23rd annual Songs on the Lawn\, a series of free summer get-togethers that showcase our region’s wide variety of local music\, entertainment\, and food! This event will take place every Thursday in June. \nSongs on the Lawn\, presented by Xcel Energy\, is an opportunity for co-workers\, friends\, and families from all around the region to gather in the City Center and enjoy live music. Lunch and snacks from local vendors will be available for purchase. The event is free to attend and parking is available in the Civic Center and Cherry Street ramps at no cost. \nBAND LINEUP: \nJune 4: Everett Smithson Band (American roots\, zydeco\, blues)\nJune 11: Murphy Brothers (blues\, Americana\, classic rock)\nJune 18: Fattenin’ Frogs (roots\, folk\, blues\, rock)\nJune 25: The Federales (country\, rock) \n 
URL:https://radiomankato.com/calendar/songs-on-the-lawn/
LOCATION:Civic Center Plaza\, Mankato\, MN\, 56001
CATEGORIES:Community Event,Radio Events
ATTACH;FMTTYPE=image/png:https://radiomankato.com/wp-content/uploads/2026/04/Songs-on-the-Lawn-Logo.png
END:VEVENT
BEGIN:VEVENT
DTSTART;TZID=America/Chicago:20260610T170000
DTEND;TZID=America/Chicago:20260610T210000
DTSTAMP:20260425T074625
CREATED:20260409T173227Z
LAST-MODIFIED:20260409T173227Z
UID:435829-1781110800-1781125200@radiomankato.com
SUMMARY:United Way Men's Event
DESCRIPTION:Each year\, Men’s Event welcomes regional men 21+ to a casual\, fun-filled night of games\, food/drink samples\, raffles and silent auction to raise awareness of United Way programs.
URL:https://radiomankato.com/calendar/united-way-mens-event-2/
LOCATION:ISG Field\, 601 Reed St\, Mankato\, MN 56001
CATEGORIES:Community Event
ATTACH;FMTTYPE=application/pdf:https://radiomankato.com/wp-content/uploads/2026/04/Mens-Event-Flyer-2026.pdf
ORGANIZER;CN="Greater Mankato Area United Way's":MAILTO:SarahB@mankatounitedway.org
END:VEVENT
BEGIN:VEVENT
DTSTART;TZID=America/Chicago:20260612T100000
DTEND;TZID=America/Chicago:20260612T140000
DTSTAMP:20260425T074625
CREATED:20260304T182839Z
LAST-MODIFIED:20260304T182839Z
UID:435524-1781258400-1781272800@radiomankato.com
SUMMARY:Barnyard Explorers
DESCRIPTION:Friday\, June 12\, 2026 | 10:00 AM  2:00 PM | \nBarnyard Explorers is a fun-filled\, hands-on event where kids can discover the animals that live on farms and learn about the important role they play in producing the food we eat and the products we use every day. \nEnjoy close-up visits with our live animals\, taste testing\, bounce houses\, visits from guests like Princess Kay\, plus plenty of exciting activities along the way. It’s the perfect day to explore\, learn\, and make unforgettable memories on the farm! \nSummer schedules fill up fast\, so be sure to mark your calendar for this event! Ticket sales will open in the spring. \nGeneral Public: $10 \nKids Club Members: Free \nLearn more about Kids Club here! \nSchool Groups: $10/Student \nLearn more about group visits here!
URL:https://radiomankato.com/calendar/barnyard-explorers/
LOCATION:MN
CATEGORIES:Community Event
ATTACH;FMTTYPE=image/webp:https://radiomankato.com/wp-content/uploads/2026/03/FBeventcovers37.webp
END:VEVENT
BEGIN:VEVENT
DTSTART;VALUE=DATE:20260613
DTEND;VALUE=DATE:20260615
DTSTAMP:20260425T074625
CREATED:20260407T161907Z
LAST-MODIFIED:20260407T161907Z
UID:435790-1781308800-1781481599@radiomankato.com
SUMMARY:Great Northern Viking Festival
DESCRIPTION:Step into a world of legend at the Great Northern Viking Festival\, happening June 13–14\, 2026 in Mankato\, Minnesota. This immersive\, family-friendly festival brings the Viking Age to life with live steel combat\, music\, storytelling\, hands-on demos\, vendors\, and interactive experiences for all ages. \nExplore a vibrant Viking village\, watch skilled warriors clash in live combat demonstrations\, try your hand at traditional skills\, and discover unique artisan goods. \nSunday is Family Day\, featuring a welcoming\, all-ages atmosphere with activities and experiences designed especially for kids and families. \nDon’t miss A Night in Valhalla (21+)\, an unforgettable evening event featuring live entertainment\, mead\, and an immersive after-dark atmosphere. \nWhether you’re looking for things to do in Mankato\, a unique Minnesota festival\, or a one-of-a-kind weekend adventure\, the Great Northern Viking Festival offers an experience unlike any other. \n🎟 Discounted tickets are on sale now\, prices will be higher at the gate.\n📍 Great Northern Viking Festival\nMankato\, MN\n📅 June 13–14\, 2026 \nGreatNorthernVikingFestival.com \nMcGowan Farm\n20002 Hawkeye Lane\nMN Mankato \nhttps://greatnorthernvikingfestival.com/
URL:https://radiomankato.com/calendar/great-northern-viking-festival/
LOCATION:MN
CATEGORIES:Community Event
ATTACH;FMTTYPE=image/jpeg:https://radiomankato.com/wp-content/uploads/2026/04/474227284_573250699032269_2718412707309473787_n.jpg
END:VEVENT
BEGIN:VEVENT
DTSTART;TZID=America/Chicago:20260618T193000
DTEND;TZID=America/Chicago:20260618T220000
DTSTAMP:20260425T074625
CREATED:20251125T171723Z
LAST-MODIFIED:20251125T171723Z
UID:434930-1781811000-1781820000@radiomankato.com
SUMMARY:Styx: Live at the Lake
DESCRIPTION:Styx: Live at the Lake \nArnolds Park – Preservation Plaza \n June 18\, 2026 7:30 PM
URL:https://radiomankato.com/calendar/styx-live-at-the-lake/
LOCATION:MN
ATTACH;FMTTYPE=image/png:https://radiomankato.com/wp-content/uploads/2025/11/Styx-announce-1-1.png
END:VEVENT
BEGIN:VEVENT
DTSTART;TZID=America/Chicago:20260619T080000
DTEND;TZID=America/Chicago:20260620T170000
DTSTAMP:20260425T074625
CREATED:20251027T150623Z
LAST-MODIFIED:20251027T150915Z
UID:434628-1781856000-1781974800@radiomankato.com
SUMMARY:Winstock 2026
DESCRIPTION:Winstock is one of the Upper Midwest’s premier outdoor country music and camping festivals organized entirely by volunteers\, with all proceeds from this event used to help fund private education for students from Winsted and surrounding communities. More than 1\,000 people volunteer more than 5\,000 hours to bring you the opportunity to enjoy country music’s finest entertainment\, food\, and fun. The Winstock committee and each student hope you will have a great time at Winstock 2026 and thanks you for your continued support and patronage. \nWhen: Winstock 2026 is scheduled for Friday-Saturday\, June 19-20\nWhere: 3233 230th Street\, Winsted\, MN 55395\nTickets & Camping on Sale Now
URL:https://radiomankato.com/calendar/winstock-2026/
LOCATION:Winsted\, MN\, 55395
CATEGORIES:Radio Events
ATTACH;FMTTYPE=image/jpeg:https://radiomankato.com/wp-content/uploads/2025/10/563998305_1373257044371750_7896747457350598841_n.jpg
END:VEVENT
BEGIN:VEVENT
DTSTART;TZID=America/Chicago:20260619T190000
DTEND;TZID=America/Chicago:20260619T220000
DTSTAMP:20260425T074625
CREATED:20251125T173717Z
LAST-MODIFIED:20251125T174228Z
UID:434934-1781895600-1781906400@radiomankato.com
SUMMARY:Carly Pearce: Live at the Lake
DESCRIPTION:Carly Pearce: Live at the Lake | Arnolds Park – Preservation Plaza | June 19\, 2026 7:30 PM
URL:https://radiomankato.com/calendar/carly-pearce-live-at-the-lake/
LOCATION:MN
ATTACH;FMTTYPE=image/png:https://radiomankato.com/wp-content/uploads/2025/11/Carly-Pearce-No-SG-Announce.png
END:VEVENT
BEGIN:VEVENT
DTSTART;VALUE=DATE:20260622
DTEND;VALUE=DATE:20260623
DTSTAMP:20260425T074625
CREATED:20260216T144826Z
LAST-MODIFIED:20260216T144826Z
UID:435419-1782086400-1782172799@radiomankato.com
SUMMARY:mgk
DESCRIPTION:mgk \nMGK: Lost Americana Tour \nSupport:  Wiz Khalifa and Mod Son \nMystic Lake Amphitheater \nTicket Info: https://www.ticketmaster.com/mgk-lost-americana-tour-shakopee-minnesota-06-22-2026/event/21006444B2062880?utm_campaign=PRM-00462812&utm_source=kdog-fm&utm_medium=ln_promo
URL:https://radiomankato.com/calendar/mgk/
LOCATION:MN
ATTACH;FMTTYPE=image/jpeg:https://radiomankato.com/wp-content/uploads/2026/02/Static_Social-Instagram_1080x1080_MGK-WizKhalifa_2026_Regional_MysticLakeAmphitheater_0622-1.jpg
END:VEVENT
BEGIN:VEVENT
DTSTART;VALUE=DATE:20260707
DTEND;VALUE=DATE:20260708
DTSTAMP:20260425T074625
CREATED:20251125T171936Z
LAST-MODIFIED:20260216T145641Z
UID:434932-1783382400-1783468799@radiomankato.com
SUMMARY:Alex Warren
DESCRIPTION:Alex Warren | July 2 | Grand Casino Arena | https://www.grandcasinoarena.com/events/detail/alex-warren \n\nTicket Info: https://www.ticketmaster.com/alex-warren-presents-little-orphan-alex-saint-paul-minnesota-07-02-2026/event/06006367113F9F77?utm_campaign=PRM-00434585&utm_source=kdog-fm&utm_medium=ln_promo
URL:https://radiomankato.com/calendar/alex-warren/
LOCATION:MN
ATTACH;FMTTYPE=image/webp:https://radiomankato.com/wp-content/uploads/2025/11/Alex-Warren-Announce-1288x1288-cbe4c8b193.webp
END:VEVENT
BEGIN:VEVENT
DTSTART;VALUE=DATE:20260712
DTEND;VALUE=DATE:20260713
DTSTAMP:20260425T074625
CREATED:20260216T151210Z
LAST-MODIFIED:20260216T151547Z
UID:435426-1783814400-1783900799@radiomankato.com
SUMMARY:Jack Johnson
DESCRIPTION:Jack Johnson \nSURFILMUSIC TOUR 2026 \nSupport: Hermanos Gutierrez\nMystic Lake Amphitheater (Shakopee) \nJuly 12th\, 2026 \nTicket Info: https://www.ticketmaster.com/jack-johnson-surfilmusic-tour-2026-shakopee-minnesota-07-12-2026/event/21006363DB3B25FB?utm_campaign=PRM-00433179&utm_source=kdog-fm&utm_medium=ln_promo
URL:https://radiomankato.com/calendar/jack-johnson/
LOCATION:MN
ATTACH;FMTTYPE=image/jpeg:https://radiomankato.com/wp-content/uploads/2026/02/Static_SocialPhoto-Instagram_1080x1080_JackJohnson_2026_Regional_MysticLakeAmphitheater_0712.jpg
END:VEVENT
BEGIN:VEVENT
DTSTART;VALUE=DATE:20260714
DTEND;VALUE=DATE:20260715
DTSTAMP:20260425T074625
CREATED:20260216T152200Z
LAST-MODIFIED:20260216T152200Z
UID:435428-1783987200-1784073599@radiomankato.com
SUMMARY:John Mellencamp
DESCRIPTION:John Mellencamp \nDancing Words Tour – The Greatest Hits\nSupport: TBD/Forthcoming\nMystic Lake Amphitheater\nJuly 14th\, 2026 \nTicket Info: https://www.ticketmaster.com/john-mellencamp-dancing-words-tour-the-shakopee-minnesota-07-14-2026/event/2100637DAD0D1B9D?utm_campaign=PRM-00449685&utm_source=kato-fm&utm_medium=ln_promo 
URL:https://radiomankato.com/calendar/john-mellencamp/
LOCATION:MN
ATTACH;FMTTYPE=image/jpeg:https://radiomankato.com/wp-content/uploads/2026/02/Static_Social-Instagram_1080x1080_JohnMellencamp_2026_Regional_MysticLakeAmphitheater_0722.jpg
END:VEVENT
BEGIN:VEVENT
DTSTART;TZID=America/Chicago:20260714T080000
DTEND;TZID=America/Chicago:20260719T170000
DTSTAMP:20260425T074625
CREATED:20260211T165523Z
LAST-MODIFIED:20260216T144004Z
UID:435383-1784016000-1784480400@radiomankato.com
SUMMARY:Bike.Build.Home 500
DESCRIPTION:In Mankato\, MN on July 14 – 19 to ride 500K in 5 days to raise money for affordable housing. \nMore info here: https://bikebuildhome500.org/  \n 
URL:https://radiomankato.com/calendar/bike-build-home-500/
LOCATION:MN
CATEGORIES:Community Event
ATTACH;FMTTYPE=image/webp:https://radiomankato.com/wp-content/uploads/2026/02/rsw_600h_300cg_true.webp
END:VEVENT
BEGIN:VEVENT
DTSTART;VALUE=DATE:20260723
DTEND;VALUE=DATE:20260724
DTSTAMP:20260425T074625
CREATED:20260216T152722Z
LAST-MODIFIED:20260216T152722Z
UID:435430-1784764800-1784851199@radiomankato.com
SUMMARY:LEEP Legends
DESCRIPTION:July 23 | ISG Field | More Info To Come
URL:https://radiomankato.com/calendar/leep-legends/
LOCATION:MN
CATEGORIES:Community Event
END:VEVENT
BEGIN:VEVENT
DTSTART;TZID=America/Chicago:20260724T100000
DTEND;TZID=America/Chicago:20260724T140000
DTSTAMP:20260425T074625
CREATED:20260304T183001Z
LAST-MODIFIED:20260304T183001Z
UID:435526-1784887200-1784901600@radiomankato.com
SUMMARY:Garden Explorers
DESCRIPTION:Friday\, July 24\, 2026 | 10:00 AM  2:00 PM | \nDig into the world of gardens\, crops\, and growing! \nExplore soil science\, hydroponics\, and learn all about pollination through fun\, sensory activities. It’s a playful way to discover how our gardens and crops thrive! \nSummer schedules fill up fast\, so be sure to mark your calendar for this event! Ticket sales will open in the spring. \nGeneral Public: $10 \nKids Club Members: Free \nLearn more about Kids Club here! \nSchool Groups: $10/Student \nLearn more about group visits here!
URL:https://radiomankato.com/calendar/garden-explorers/
LOCATION:MN
CATEGORIES:Community Event
ATTACH;FMTTYPE=image/webp:https://radiomankato.com/wp-content/uploads/2026/03/FBeventcovers38.webp
END:VEVENT
BEGIN:VEVENT
DTSTART;TZID=America/Chicago:20260725T180000
DTEND;TZID=America/Chicago:20260725T193000
DTSTAMP:20260425T074625
CREATED:20260304T183104Z
LAST-MODIFIED:20260304T183104Z
UID:435528-1785002400-1785007800@radiomankato.com
SUMMARY:Bands by the Barn
DESCRIPTION:Saturday\, July 25\, 2026 | 6:00 PM  7:30 PM | \nMark your calendar for Bands by the Barn! \nAn evening of live music\, delicious food trucks\, and beautiful countryside views. Bring your lawn chairs\, gather your friends\, and enjoy great tunes in a relaxed setting. \nBest of all\, all proceeds and donations will support Farmamerica’s Red Barn Campaign!
URL:https://radiomankato.com/calendar/bands-by-the-barn/
LOCATION:MN
CATEGORIES:Community Event
ATTACH;FMTTYPE=image/webp:https://radiomankato.com/wp-content/uploads/2026/03/FBeventcovers45.webp
END:VEVENT
BEGIN:VEVENT
DTSTART;VALUE=DATE:20260729
DTEND;VALUE=DATE:20260730
DTSTAMP:20260425T074625
CREATED:20260216T152857Z
LAST-MODIFIED:20260216T152857Z
UID:435431-1785283200-1785369599@radiomankato.com
SUMMARY:The Black Crowes & Whiskey Myers
DESCRIPTION:The Black Crowes & Whiskey Myers \nSouthern Hospitality Tour \nSupport: Southall \nMystic Lake Amphitheater \nJuly 28th\, 2026 \nTicket Info: https://www.ticketmaster.com/event/2100643BA00F1E1F
URL:https://radiomankato.com/calendar/the-black-crowes-whiskey-myers/
LOCATION:MN
ATTACH;FMTTYPE=image/jpeg:https://radiomankato.com/wp-content/uploads/2026/02/Static_SocialPhoto-Instagram_1080x1080_TheBlackCrowes_2026_Regional_MysticLakeAmphitheater_0728.jpg
END:VEVENT
BEGIN:VEVENT
DTSTART;VALUE=DATE:20260729
DTEND;VALUE=DATE:20260731
DTSTAMP:20260425T074625
CREATED:20260216T153112Z
LAST-MODIFIED:20260216T153112Z
UID:435433-1785283200-1785455999@radiomankato.com
SUMMARY:Chris Stapleton
DESCRIPTION:Chris Stapleton \nAll-American Road Show \nSupport: Allen Stone \nMystic Lake Amphitheater \nJuly 29th\, 2026 & July 30th\, 2026 \nTicket Info: https://www.ticketmaster.com/event/21006425A6911C4E
URL:https://radiomankato.com/calendar/chris-stapleton/
LOCATION:MN
ATTACH;FMTTYPE=image/jpeg:https://radiomankato.com/wp-content/uploads/2026/02/Static_Instagram_1080x1080_ChrisStapleton_2026_Regional_MysticLakeAmphitheater_0729.jpg
END:VEVENT
BEGIN:VEVENT
DTSTART;VALUE=DATE:20260804
DTEND;VALUE=DATE:20260805
DTSTAMP:20260425T074625
CREATED:20260216T153316Z
LAST-MODIFIED:20260216T153316Z
UID:435435-1785801600-1785887999@radiomankato.com
SUMMARY:Goo Goo Dolls
DESCRIPTION:Goo Goo Dolls \nSummer 2026 \nSupport: Neon Trees \nMystic Lake Amphitheater \nAugust 4th\, 2026 \nTicket info: https://www.ticketmaster.com/goo-goo-dolls-summer-2026-shakopee-minnesota-08-04-2026/event/2100638392041FA4?utm_campaign=PRM-00443743&utm_source=kato-fm&utm_medium=ln_promo 
URL:https://radiomankato.com/calendar/goo-goo-dolls/
LOCATION:MN
ATTACH;FMTTYPE=image/jpeg:https://radiomankato.com/wp-content/uploads/2026/02/Static_Social-Instagram_1080x1080_GooGooDolls_2026_Regional_MysticLakeAmphitheater_0804.jpg
END:VEVENT
END:VCALENDAR