BEGIN:VCALENDAR
VERSION:2.0
PRODID:-//Radio Mankato - ECPv6.15.20//NONSGML v1.0//EN
CALSCALE:GREGORIAN
METHOD:PUBLISH
X-WR-CALNAME:Radio Mankato
X-ORIGINAL-URL:https://radiomankato.com
X-WR-CALDESC:Events for Radio Mankato
REFRESH-INTERVAL;VALUE=DURATION:PT1H
X-Robots-Tag:noindex
X-PUBLISHED-TTL:PT1H
BEGIN:VTIMEZONE
TZID:UTC
BEGIN:STANDARD
TZOFFSETFROM:+0000
TZOFFSETTO:+0000
TZNAME:UTC
DTSTART:20240101T000000
END:STANDARD
END:VTIMEZONE
BEGIN:VEVENT
DTSTART;VALUE=DATE:20250117
DTEND;VALUE=DATE:20250118
DTSTAMP:20260422T054827
CREATED:20250108T002347Z
LAST-MODIFIED:20250108T002347Z
UID:431718-1737072000-1737158399@radiomankato.com
SUMMARY:MSU Mavericks Hockey Home Game
DESCRIPTION:
URL:https://radiomankato.com/calendar/msu-mavericks-hockey-home-game-14/
LOCATION:Mayo Clinic Health System Event Center\, 1 Civic Center Plaza\, Mankato\, MN\, 56001\, United States
END:VEVENT
BEGIN:VEVENT
DTSTART;VALUE=DATE:20250117
DTEND;VALUE=DATE:20250119
DTSTAMP:20260422T054827
CREATED:20250114T031102Z
LAST-MODIFIED:20250114T031102Z
UID:431810-1737072000-1737244799@radiomankato.com
SUMMARY:Men’s and Women's Maverick Basketball at Home
DESCRIPTION:Play x play with Aaron Worm on the FAN Mankato
URL:https://radiomankato.com/calendar/mens-and-womens-maverick-basketball-at-home/
LOCATION:Taylor Center\, Taylor Center\, Mankato\, MN 56001
END:VEVENT
BEGIN:VEVENT
DTSTART;VALUE=DATE:20250118
DTEND;VALUE=DATE:20250119
DTSTAMP:20260422T054827
CREATED:20250108T002425Z
LAST-MODIFIED:20250108T002425Z
UID:431719-1737158400-1737244799@radiomankato.com
SUMMARY:MSU Mavericks Hockey Home Game
DESCRIPTION:
URL:https://radiomankato.com/calendar/msu-mavericks-hockey-home-game-15/
LOCATION:Mayo Clinic Health System Event Center\, 1 Civic Center Plaza\, Mankato\, MN\, 56001\, United States
END:VEVENT
BEGIN:VEVENT
DTSTART;VALUE=DATE:20250122
DTEND;VALUE=DATE:20250123
DTSTAMP:20260422T054827
CREATED:20241220T000100Z
LAST-MODIFIED:20250109T043642Z
UID:431580-1737504000-1737590399@radiomankato.com
SUMMARY:Twins Winter Caravan
DESCRIPTION:🎟️ \nDon’t wait—get your tickets now for just $10 each—available at Radio Mankato or at the door the night of the event!\n  \n\n\n \n\n\n📅 Wednesday\, January 22\n\n\n📍 The Venue on Madison (Sponsored by Crooked Pint)\n\n\n⏰ Doors open at 5:30 PM | Program starts at 6:30 PM\n\n\n🌟 Special Guests:\n\n\nGlen Perkins\n\n\nBrooks Lee\n\n\nLouie Varland\n\n\nKris Atteberry\n\n\n  \nTC Bear 🐻\n\n\nLearn more at KTOE.com.\n\n\n#MNTwins #TwinsWinterCaravan #MankatoEvents #BaseballFans
URL:https://radiomankato.com/calendar/twins-winter-caravan/
LOCATION:The venue\, The Venue\, 1850 Madison Ave\, Mankato\, MN 56001
END:VEVENT
BEGIN:VEVENT
DTSTART;VALUE=DATE:20250125
DTEND;VALUE=DATE:20250127
DTSTAMP:20260422T054827
CREATED:20241023T194939Z
LAST-MODIFIED:20241023T194939Z
UID:431321-1737763200-1737935999@radiomankato.com
SUMMARY:Anthony Ford Pond Hockey Classic
DESCRIPTION:
URL:https://radiomankato.com/calendar/anthony-ford-pond-hockey-classic/
LOCATION:Spring Lake Park\, 650 Webster Ave\, North Mankato\, MN\, 56003\, United States
END:VEVENT
BEGIN:VEVENT
DTSTART;VALUE=DATE:20250131
DTEND;VALUE=DATE:20250201
DTSTAMP:20260422T054827
CREATED:20240827T223741Z
LAST-MODIFIED:20240827T223741Z
UID:431123-1738281600-1738367999@radiomankato.com
SUMMARY:MSU Mavericks Hockey Home Game
DESCRIPTION:
URL:https://radiomankato.com/calendar/msu-mavericks-hockey-home-game-16/
LOCATION:Mayo Clinic Health System Event Center\, 1 Civic Center Plaza\, Mankato\, MN\, 56001\, United States
END:VEVENT
END:VCALENDAR